BEGIN:VCALENDAR
VERSION:2.0
PRODID:-//Rawah Academy - ECPv6.15.20//NONSGML v1.0//EN
CALSCALE:GREGORIAN
METHOD:PUBLISH
X-WR-CALNAME:Rawah Academy
X-ORIGINAL-URL:https://rawahacademy.com
X-WR-CALDESC:Events for Rawah Academy
REFRESH-INTERVAL;VALUE=DURATION:PT1H
X-Robots-Tag:noindex
X-PUBLISHED-TTL:PT1H
BEGIN:VTIMEZONE
TZID:UTC
BEGIN:STANDARD
TZOFFSETFROM:+0000
TZOFFSETTO:+0000
TZNAME:UTC
DTSTART:20200101T000000
END:STANDARD
END:VTIMEZONE
BEGIN:VEVENT
DTSTART;TZID=UTC:20220509T183000
DTEND;TZID=UTC:20220509T200000
DTSTAMP:20260424T033213
CREATED:20220507T204356Z
LAST-MODIFIED:20220507T204358Z
UID:803-1652121000-1652126400@rawahacademy.com
SUMMARY:Homeschool Choir – Johnny Appleseed
DESCRIPTION:The Homeschool Choir of Johnson County Kansas will be performing Johnny Appleseed on Monday\, May 9th\, at 6:30pm. Rawah Academy fourth-grader\, Eli Bittner\, will be singing in the chorus.
URL:https://rawahacademy.com/event/homeschool-choir-johnny-appleseed/
CATEGORIES:music
ATTACH;FMTTYPE=image/jpeg:https://rawahacademy.com/wp-content/uploads/2022/05/JohhnyAppleseed.jpg
ORGANIZER;CN="Jill Bittner":MAILTO:jill@rawahacademy.com
END:VEVENT
BEGIN:VEVENT
DTSTART;TZID=UTC:20210911T110000
DTEND;TZID=UTC:20210911T130000
DTSTAMP:20260424T033213
CREATED:20210909T204454Z
LAST-MODIFIED:20210909T204628Z
UID:581-1631358000-1631365200@rawahacademy.com
SUMMARY:Grandparents Day at the Mahaffie House
DESCRIPTION:
URL:https://rawahacademy.com/event/grandparents-day-at-the-mahaffie-house/
LOCATION:Mahaffie House\, 1200 E Kansas City Rd\, Olathe\, Kansas\, 66061
CATEGORIES:Field Trip
ATTACH;FMTTYPE=image/jpeg:https://rawahacademy.com/wp-content/uploads/2021/09/mahaffie.jpg
ORGANIZER;CN="Jill Bittner":MAILTO:jill@rawahacademy.com
END:VEVENT
BEGIN:VEVENT
DTSTART;TZID=UTC:20210910T160000
DTEND;TZID=UTC:20210910T170000
DTSTAMP:20260424T033213
CREATED:20210908T161636Z
LAST-MODIFIED:20210908T161640Z
UID:559-1631289600-1631293200@rawahacademy.com
SUMMARY:Field Trip to RocKC
DESCRIPTION:
URL:https://rawahacademy.com/event/field-trip-to-rockc/
LOCATION:RocKC\, 654 N Central St.\, Olathe\, KS\, 66061\, United States
CATEGORIES:Field Trip
ATTACH;FMTTYPE=image/png:https://rawahacademy.com/wp-content/uploads/2021/09/Screen-Shot-2021-09-08-at-11.12.03-AM.png
ORGANIZER;CN="Chris Bittner":MAILTO:chris@rawahacademy.com
END:VEVENT
BEGIN:VEVENT
DTSTART;TZID=UTC:20210907T090000
DTEND;TZID=UTC:20210907T170000
DTSTAMP:20260424T033213
CREATED:20210908T160437Z
LAST-MODIFIED:20210908T160439Z
UID:556-1631005200-1631034000@rawahacademy.com
SUMMARY:First Day of School 2021
DESCRIPTION:
URL:https://rawahacademy.com/event/first-day-of-school-2021/
LOCATION:Rawah Academy
ORGANIZER;CN="Jill Bittner":MAILTO:jill@rawahacademy.com
END:VEVENT
END:VCALENDAR