BEGIN:VCALENDAR
VERSION:2.0
PRODID:-//Rawah Academy - ECPv6.15.20//NONSGML v1.0//EN
CALSCALE:GREGORIAN
METHOD:PUBLISH
X-ORIGINAL-URL:https://rawahacademy.com
X-WR-CALDESC:Events for Rawah Academy
REFRESH-INTERVAL;VALUE=DURATION:PT1H
X-Robots-Tag:noindex
X-PUBLISHED-TTL:PT1H
BEGIN:VTIMEZONE
TZID:UTC
BEGIN:STANDARD
TZOFFSETFROM:+0000
TZOFFSETTO:+0000
TZNAME:UTC
DTSTART:20210101T000000
END:STANDARD
END:VTIMEZONE
BEGIN:VEVENT
DTSTART;TZID=UTC:20220613T100000
DTEND;TZID=UTC:20220613T113000
DTSTAMP:20260424T035530
CREATED:20220508T201252Z
LAST-MODIFIED:20220508T201742Z
UID:806-1655114400-1655119800@rawahacademy.com
SUMMARY:Summer Par 3 Junior Golf League
DESCRIPTION:Seven weeks of golf with 9-11 year-olds. Each age group is capped at 70 players per day.\n\nThe league is supervised by staff to make sure pace of play and proper etiquette is being observed. There is no formal instruction with this league. Proper golf attire is required.\n\nMeet at Hole #1 on league days\n\n\n\nQuestions? Email Larissa.Roberts@opkansas.org \nSykes/Lady Overland Park Golf Club\n12501 Quivira Road\, OPKS 66213
URL:https://rawahacademy.com/event/summer-par-3-junior-golf-league-2/
LOCATION:Sykes/Lady Overland Park Golf Club
CATEGORIES:Sports
ATTACH;FMTTYPE=image/jpeg:https://rawahacademy.com/wp-content/uploads/2022/05/golf-2158897_1920.jpg
ORGANIZER;CN="Chris Bittner":MAILTO:chris@rawahacademy.com
END:VEVENT
BEGIN:VEVENT
DTSTART;TZID=UTC:20220606T100000
DTEND;TZID=UTC:20220606T113000
DTSTAMP:20260424T035530
CREATED:20220507T202800Z
LAST-MODIFIED:20220508T201728Z
UID:798-1654509600-1654515000@rawahacademy.com
SUMMARY:Summer Par 3 Junior Golf League
DESCRIPTION:Seven weeks of golf with 9-11 year-olds. Each age group is capped at 70 players per day.\n\nThe league is supervised by staff to make sure pace of play and proper etiquette is being observed. There is no formal instruction with this league. Proper golf attire is required.\n\nMeet at Hole #1 on league days\n\n\n\nQuestions? Email Larissa.Roberts@opkansas.org \nSykes/Lady Overland Park Golf Club\n12501 Quivira Road\, OPKS 66213
URL:https://rawahacademy.com/event/summer-par-3-junior-golf-league/
LOCATION:Sykes/Lady Overland Park Golf Club
CATEGORIES:Sports
ATTACH;FMTTYPE=image/jpeg:https://rawahacademy.com/wp-content/uploads/2022/05/golf-2158897_1920.jpg
ORGANIZER;CN="Chris Bittner":MAILTO:chris@rawahacademy.com
END:VEVENT
END:VCALENDAR