BEGIN:VCALENDAR
VERSION:2.0
PRODID:-//Rawah Academy - ECPv6.15.20//NONSGML v1.0//EN
CALSCALE:GREGORIAN
METHOD:PUBLISH
X-ORIGINAL-URL:https://rawahacademy.com
X-WR-CALDESC:Events for Rawah Academy
REFRESH-INTERVAL;VALUE=DURATION:PT1H
X-Robots-Tag:noindex
X-PUBLISHED-TTL:PT1H
BEGIN:VTIMEZONE
TZID:UTC
BEGIN:STANDARD
TZOFFSETFROM:+0000
TZOFFSETTO:+0000
TZNAME:UTC
DTSTART:20210101T000000
END:STANDARD
END:VTIMEZONE
BEGIN:VEVENT
DTSTART;TZID=UTC:20221021T143000
DTEND;TZID=UTC:20221021T153000
DTSTAMP:20260424T023220
CREATED:20220908T172131Z
LAST-MODIFIED:20220908T172137Z
UID:923-1666362600-1666366200@rawahacademy.com
SUMMARY:Soccer Club
DESCRIPTION:Last day of Soccer Club! \nSept 9th – Oct 21st
URL:https://rawahacademy.com/event/soccer-club-5/
LOCATION:Blackbob Park
CATEGORIES:Sports
ATTACH;FMTTYPE=image/jpeg:https://rawahacademy.com/wp-content/uploads/2022/09/soccer-1151288_640.jpg
END:VEVENT
BEGIN:VEVENT
DTSTART;TZID=UTC:20221014T143000
DTEND;TZID=UTC:20221014T153000
DTSTAMP:20260424T023220
CREATED:20220908T172018Z
LAST-MODIFIED:20220908T172222Z
UID:921-1665757800-1665761400@rawahacademy.com
SUMMARY:Soccer Club
DESCRIPTION:You will play soccer with other homeschooled kids your age every Friday through fall semester. \nSept 9th – Oct 21st
URL:https://rawahacademy.com/event/soccer-club-4/
LOCATION:Blackbob Park
CATEGORIES:Sports
ATTACH;FMTTYPE=image/jpeg:https://rawahacademy.com/wp-content/uploads/2022/09/soccer-1151288_640.jpg
END:VEVENT
BEGIN:VEVENT
DTSTART;TZID=UTC:20221007T143000
DTEND;TZID=UTC:20221007T153000
DTSTAMP:20260424T023220
CREATED:20220908T171921Z
LAST-MODIFIED:20220908T172159Z
UID:919-1665153000-1665156600@rawahacademy.com
SUMMARY:Soccer Club
DESCRIPTION:You will play soccer with other homeschooled kids your age every Friday through fall semester. \nSept 9th – Oct 21st
URL:https://rawahacademy.com/event/soccer-club-3/
LOCATION:Blackbob Park
CATEGORIES:Sports
ATTACH;FMTTYPE=image/jpeg:https://rawahacademy.com/wp-content/uploads/2022/09/soccer-1151288_640.jpg
END:VEVENT
BEGIN:VEVENT
DTSTART;TZID=UTC:20220930T143000
DTEND;TZID=UTC:20220930T153000
DTSTAMP:20260424T023220
CREATED:20220908T171709Z
LAST-MODIFIED:20220908T171714Z
UID:915-1664548200-1664551800@rawahacademy.com
SUMMARY:Soccer Club
DESCRIPTION:You will play soccer with other homeschooled kids your age every Friday through fall semester. \nSept 9th – Oct 21st
URL:https://rawahacademy.com/event/soccer-club/
LOCATION:Blackbob Park
CATEGORIES:Sports
ATTACH;FMTTYPE=image/jpeg:https://rawahacademy.com/wp-content/uploads/2022/09/soccer-1151288_640.jpg
END:VEVENT
BEGIN:VEVENT
DTSTART;TZID=UTC:20220923T143000
DTEND;TZID=UTC:20220923T153000
DTSTAMP:20260424T023220
CREATED:20220907T020347Z
LAST-MODIFIED:20220907T020352Z
UID:882-1663943400-1663947000@rawahacademy.com
SUMMARY:Homeschool Soccer Club
DESCRIPTION:You will play soccer with other homeschooled kids your age every Friday through fall semester. \nSept 9th – Oct 21st
URL:https://rawahacademy.com/event/homeschool-soccer-club-3/
LOCATION:Blackbob Park
CATEGORIES:Sports
ATTACH;FMTTYPE=image/jpeg:https://rawahacademy.com/wp-content/uploads/2022/09/soccer-1151288_640.jpg
END:VEVENT
BEGIN:VEVENT
DTSTART;TZID=UTC:20220916T143000
DTEND;TZID=UTC:20220916T153000
DTSTAMP:20260424T023220
CREATED:20220907T020019Z
LAST-MODIFIED:20220907T020107Z
UID:880-1663338600-1663342200@rawahacademy.com
SUMMARY:Homeschool Soccer Club
DESCRIPTION:You will play soccer with other homeschooled kids your age every Friday through fall semester. \nSept 9th – Oct 21st
URL:https://rawahacademy.com/event/homeschool-soccer-club-2/
LOCATION:Blackbob Park
CATEGORIES:Sports
ATTACH;FMTTYPE=image/jpeg:https://rawahacademy.com/wp-content/uploads/2022/09/soccer-1151288_640.jpg
END:VEVENT
BEGIN:VEVENT
DTSTART;TZID=UTC:20220909T143000
DTEND;TZID=UTC:20220909T153000
DTSTAMP:20260424T023220
CREATED:20220907T015429Z
LAST-MODIFIED:20220907T020132Z
UID:875-1662733800-1662737400@rawahacademy.com
SUMMARY:Homeschool Soccer Club
DESCRIPTION:You will play soccer with other homeschooled kids your age every Friday through fall semester. \nSept 9th – Oct 21st
URL:https://rawahacademy.com/event/homeschool-soccer-club/
LOCATION:Blackbob Park
CATEGORIES:Sports
ATTACH;FMTTYPE=image/jpeg:https://rawahacademy.com/wp-content/uploads/2022/09/soccer-1151288_640.jpg
END:VEVENT
BEGIN:VEVENT
DTSTART;TZID=UTC:20220725T100000
DTEND;TZID=UTC:20220725T113000
DTSTAMP:20260424T023220
CREATED:20220508T202414Z
LAST-MODIFIED:20220508T202415Z
UID:817-1658743200-1658748600@rawahacademy.com
SUMMARY:Summer Par 3 Junior Golf League
DESCRIPTION:Seven weeks of golf with 9-11 year-olds. Each age group is capped at 70 players per day.\n\nThe league is supervised by staff to make sure pace of play and proper etiquette is being observed. There is no formal instruction with this league. Proper golf attire is required.\n\nMeet at Hole #1 on league days\n\n\n\nQuestions? Email Larissa.Roberts@opkansas.org \nSykes/Lady Overland Park Golf Club\n12501 Quivira Road\, OPKS 66213
URL:https://rawahacademy.com/event/summer-par-3-junior-golf-league-7/
LOCATION:Sykes/Lady Overland Park Golf Club
CATEGORIES:Sports
ATTACH;FMTTYPE=image/jpeg:https://rawahacademy.com/wp-content/uploads/2022/05/golf-2158897_1920.jpg
ORGANIZER;CN="Chris Bittner":MAILTO:chris@rawahacademy.com
END:VEVENT
BEGIN:VEVENT
DTSTART;TZID=UTC:20220718T100000
DTEND;TZID=UTC:20220718T113000
DTSTAMP:20260424T023220
CREATED:20220508T202318Z
LAST-MODIFIED:20220508T202320Z
UID:815-1658138400-1658143800@rawahacademy.com
SUMMARY:Summer Par 3 Junior Golf League
DESCRIPTION:Seven weeks of golf with 9-11 year-olds. Each age group is capped at 70 players per day.\n\nThe league is supervised by staff to make sure pace of play and proper etiquette is being observed. There is no formal instruction with this league. Proper golf attire is required.\n\nMeet at Hole #1 on league days\n\n\n\nQuestions? Email Larissa.Roberts@opkansas.org \nSykes/Lady Overland Park Golf Club\n12501 Quivira Road\, OPKS 66213
URL:https://rawahacademy.com/event/summer-par-3-junior-golf-league-6/
LOCATION:Sykes/Lady Overland Park Golf Club
CATEGORIES:Sports
ATTACH;FMTTYPE=image/jpeg:https://rawahacademy.com/wp-content/uploads/2022/05/golf-2158897_1920.jpg
ORGANIZER;CN="Chris Bittner":MAILTO:chris@rawahacademy.com
END:VEVENT
BEGIN:VEVENT
DTSTART;TZID=UTC:20220711T100000
DTEND;TZID=UTC:20220711T113000
DTSTAMP:20260424T023220
CREATED:20220508T202204Z
LAST-MODIFIED:20220508T202207Z
UID:813-1657533600-1657539000@rawahacademy.com
SUMMARY:Summer Par 3 Junior Golf League
DESCRIPTION:Seven weeks of golf with 9-11 year-olds. Each age group is capped at 70 players per day.\n\nThe league is supervised by staff to make sure pace of play and proper etiquette is being observed. There is no formal instruction with this league. Proper golf attire is required.\n\nMeet at Hole #1 on league days\n\n\n\nQuestions? Email Larissa.Roberts@opkansas.org \nSykes/Lady Overland Park Golf Club\n12501 Quivira Road\, OPKS 66213
URL:https://rawahacademy.com/event/summer-par-3-junior-golf-league-5/
LOCATION:Sykes/Lady Overland Park Golf Club
CATEGORIES:Sports
ATTACH;FMTTYPE=image/jpeg:https://rawahacademy.com/wp-content/uploads/2022/05/golf-2158897_1920.jpg
ORGANIZER;CN="Chris Bittner":MAILTO:chris@rawahacademy.com
END:VEVENT
BEGIN:VEVENT
DTSTART;TZID=UTC:20220627T100000
DTEND;TZID=UTC:20220627T113000
DTSTAMP:20260424T023220
CREATED:20220508T202008Z
LAST-MODIFIED:20220508T202011Z
UID:811-1656324000-1656329400@rawahacademy.com
SUMMARY:Summer Par 3 Junior Golf League
DESCRIPTION:Seven weeks of golf with 9-11 year-olds. Each age group is capped at 70 players per day.\n\nThe league is supervised by staff to make sure pace of play and proper etiquette is being observed. There is no formal instruction with this league. Proper golf attire is required.\n\nMeet at Hole #1 on league days\n\n\n\nQuestions? Email Larissa.Roberts@opkansas.org \nSykes/Lady Overland Park Golf Club\n12501 Quivira Road\, OPKS 66213
URL:https://rawahacademy.com/event/summer-par-3-junior-golf-league-4/
LOCATION:Sykes/Lady Overland Park Golf Club
CATEGORIES:Sports
ATTACH;FMTTYPE=image/jpeg:https://rawahacademy.com/wp-content/uploads/2022/05/golf-2158897_1920.jpg
ORGANIZER;CN="Chris Bittner":MAILTO:chris@rawahacademy.com
END:VEVENT
BEGIN:VEVENT
DTSTART;TZID=UTC:20220620T100000
DTEND;TZID=UTC:20220620T113000
DTSTAMP:20260424T023220
CREATED:20220508T201635Z
LAST-MODIFIED:20220508T201637Z
UID:808-1655719200-1655724600@rawahacademy.com
SUMMARY:Summer Par 3 Junior Golf League
DESCRIPTION:Seven weeks of golf with 9-11 year-olds. Each age group is capped at 70 players per day.\n\nThe league is supervised by staff to make sure pace of play and proper etiquette is being observed. There is no formal instruction with this league. Proper golf attire is required.\n\nMeet at Hole #1 on league days\n\n\n\nQuestions? Email Larissa.Roberts@opkansas.org \nSykes/Lady Overland Park Golf Club\n12501 Quivira Road\, OPKS 66213
URL:https://rawahacademy.com/event/summer-par-3-junior-golf-league-3/
LOCATION:Sykes/Lady Overland Park Golf Club
CATEGORIES:Sports
ATTACH;FMTTYPE=image/jpeg:https://rawahacademy.com/wp-content/uploads/2022/05/golf-2158897_1920.jpg
ORGANIZER;CN="Chris Bittner":MAILTO:chris@rawahacademy.com
END:VEVENT
BEGIN:VEVENT
DTSTART;TZID=UTC:20220613T100000
DTEND;TZID=UTC:20220613T113000
DTSTAMP:20260424T023220
CREATED:20220508T201252Z
LAST-MODIFIED:20220508T201742Z
UID:806-1655114400-1655119800@rawahacademy.com
SUMMARY:Summer Par 3 Junior Golf League
DESCRIPTION:Seven weeks of golf with 9-11 year-olds. Each age group is capped at 70 players per day.\n\nThe league is supervised by staff to make sure pace of play and proper etiquette is being observed. There is no formal instruction with this league. Proper golf attire is required.\n\nMeet at Hole #1 on league days\n\n\n\nQuestions? Email Larissa.Roberts@opkansas.org \nSykes/Lady Overland Park Golf Club\n12501 Quivira Road\, OPKS 66213
URL:https://rawahacademy.com/event/summer-par-3-junior-golf-league-2/
LOCATION:Sykes/Lady Overland Park Golf Club
CATEGORIES:Sports
ATTACH;FMTTYPE=image/jpeg:https://rawahacademy.com/wp-content/uploads/2022/05/golf-2158897_1920.jpg
ORGANIZER;CN="Chris Bittner":MAILTO:chris@rawahacademy.com
END:VEVENT
BEGIN:VEVENT
DTSTART;TZID=UTC:20220606T100000
DTEND;TZID=UTC:20220606T113000
DTSTAMP:20260424T023220
CREATED:20220507T202800Z
LAST-MODIFIED:20220508T201728Z
UID:798-1654509600-1654515000@rawahacademy.com
SUMMARY:Summer Par 3 Junior Golf League
DESCRIPTION:Seven weeks of golf with 9-11 year-olds. Each age group is capped at 70 players per day.\n\nThe league is supervised by staff to make sure pace of play and proper etiquette is being observed. There is no formal instruction with this league. Proper golf attire is required.\n\nMeet at Hole #1 on league days\n\n\n\nQuestions? Email Larissa.Roberts@opkansas.org \nSykes/Lady Overland Park Golf Club\n12501 Quivira Road\, OPKS 66213
URL:https://rawahacademy.com/event/summer-par-3-junior-golf-league/
LOCATION:Sykes/Lady Overland Park Golf Club
CATEGORIES:Sports
ATTACH;FMTTYPE=image/jpeg:https://rawahacademy.com/wp-content/uploads/2022/05/golf-2158897_1920.jpg
ORGANIZER;CN="Chris Bittner":MAILTO:chris@rawahacademy.com
END:VEVENT
END:VCALENDAR