BEGIN:VCALENDAR
VERSION:2.0
PRODID:-//Rawah Academy - ECPv6.15.20//NONSGML v1.0//EN
CALSCALE:GREGORIAN
METHOD:PUBLISH
X-WR-CALNAME:Rawah Academy
X-ORIGINAL-URL:https://rawahacademy.com
X-WR-CALDESC:Events for Rawah Academy
REFRESH-INTERVAL;VALUE=DURATION:PT1H
X-Robots-Tag:noindex
X-PUBLISHED-TTL:PT1H
BEGIN:VTIMEZONE
TZID:UTC
BEGIN:STANDARD
TZOFFSETFROM:+0000
TZOFFSETTO:+0000
TZNAME:UTC
DTSTART:20210101T000000
END:STANDARD
END:VTIMEZONE
BEGIN:VEVENT
DTSTART;TZID=UTC:20220907T080000
DTEND;TZID=UTC:20220907T170000
DTSTAMP:20260424T045708
CREATED:20220906T195406Z
LAST-MODIFIED:20220908T173140Z
UID:862-1662537600-1662570000@rawahacademy.com
SUMMARY:First Day of School
DESCRIPTION:Welcome back to Rawah Academy! We’re excited to see you excel and learn during this 2022-2023 school year. \nBefore we begin learning lets say a prayer that God will guide both students and instructors and that we honor Him with all we do. \nNext\, let’s recite the Pledge of Allegiance while standing\, hand over our hearts\, facing the flag of the United States of America. We are blessed to live in this great country! \nFinally\, let’s discuss our daily schedules\, rules\, and goals for this year and this first semester. \nNow\, to the Rawah Academy Wild Things – Go forward and do great things! Learn all you can and be a blessing to God and the world around you. \nHands in the middle ––––– “WILD THINGS!”
URL:https://rawahacademy.com/event/first-day-of-school/
CATEGORIES:Academy
ATTACH;FMTTYPE=image/jpeg:https://rawahacademy.com/wp-content/uploads/2022/09/lion-3576045_640.jpg
END:VEVENT
END:VCALENDAR